BEGIN:VCALENDAR
VERSION:2.0
PRODID:-//Hof 39 - ECPv6.15.14//NONSGML v1.0//EN
CALSCALE:GREGORIAN
METHOD:PUBLISH
X-WR-CALNAME:Hof 39
X-ORIGINAL-URL:https://hof-39.de
X-WR-CALDESC:Veranstaltungen für Hof 39
REFRESH-INTERVAL;VALUE=DURATION:PT1H
X-Robots-Tag:noindex
X-PUBLISHED-TTL:PT1H
BEGIN:VTIMEZONE
TZID:UTC
BEGIN:STANDARD
TZOFFSETFROM:+0000
TZOFFSETTO:+0000
TZNAME:UTC
DTSTART:20250101T000000
END:STANDARD
END:VTIMEZONE
BEGIN:VEVENT
DTSTART;TZID=UTC:20260508T190000
DTEND;TZID=UTC:20260508T210000
DTSTAMP:20260424T115324
CREATED:20250423T064521Z
LAST-MODIFIED:20260305T084029Z
UID:4008-1778266800-1778274000@hof-39.de
SUMMARY:Klavierkonzert
DESCRIPTION:
URL:https://hof-39.de/event/klavierkonzert/
ATTACH;FMTTYPE=application/pdf:https://hof-39.de/wp-content/uploads/2025/04/Schwarz-Weiss-Einfach-Leer-Notiz-Seite-A4-2.pdf
END:VEVENT
BEGIN:VEVENT
DTSTART;TZID=UTC:20260510T120000
DTEND;TZID=UTC:20260510T200000
DTSTAMP:20260424T115325
CREATED:20250218T135246Z
LAST-MODIFIED:20260414T132731Z
UID:3774-1778414400-1778443200@hof-39.de
SUMMARY:Hof Café
DESCRIPTION:
URL:https://hof-39.de/event/hofcafe/
LOCATION:Floating
ATTACH;FMTTYPE=image/jpeg:https://hof-39.de/wp-content/uploads/2025/02/WhatsApp-Image-2026-04-13-at-21.03.09.jpeg
END:VEVENT
END:VCALENDAR